BEGIN:VCALENDAR
PRODID:NingEventWidget-v1
VERSION:2.0
METHOD:PUBLISH
BEGIN:VTIMEZONE
TZID:America/Belize
X-LIC-LOCATION:America/Belize
BEGIN:STANDARD
TZOFFSETFROM:-0600
TZOFFSETTO:-0600
TZNAME:CST
DTSTART:19700101T000000
END:STANDARD
END:VTIMEZONE
BEGIN:VEVENT
UID:1869403:Event:285721
DTSTAMP:20260422T001956Z
SUMMARY:Tennis Get Together
DESCRIPTION:Anyone interested in playing tennis can come.\nWe will mee
 t for an evening of karaoke/music and plan for tennis playing. Cost is
  $4 for adults and $1 for kids under 14.\nWe will discuss where, when 
 and how players from beginners to very good players can be paired up t
 o play.\nHotdogs, chili and snacks will be available. This is a family
  friendly (No Alcohol) meeting.\nContact Ron to sign up at 865-466-299
 8\n\nFor more information visit http://tennisopolis.com/events/tennis-
 get-together
DTSTART;TZID=America/Belize:20090331T190000
DTEND;TZID=America/Belize:20090331T210000
CATEGORIES:tennis, and, karaoke, "/", music, fun
LOCATION:Music & Special Events
WEBSITE:http://www.greatmusicfun.com
URL:http://www.greatmusicfun.com
CONTACT:865-466-2998
ORGANIZER;CN=Ron:http://tennisopolis.com/profile/Ron69
ATTACH;FMTTYPE="image/jpeg":
ATTENDEE;ROLE=REQ-PARTICIPANT;PARTSTAT=ACCEPTED;RSVP=TRUE;CN=Ron:http:
 //tennisopolis.com/profile/Ron69
END:VEVENT
END:VCALENDAR
