BEGIN:VCALENDAR
PRODID:NingEventWidget-v1
VERSION:2.0
METHOD:PUBLISH
BEGIN:VTIMEZONE
TZID:America/Belize
X-LIC-LOCATION:America/Belize
BEGIN:STANDARD
TZOFFSETFROM:-0600
TZOFFSETTO:-0600
TZNAME:CST
DTSTART:19700101T000000
END:STANDARD
END:VTIMEZONE
BEGIN:VEVENT
UID:1869403:Event:872393
DTSTAMP:20260420T235918Z
SUMMARY:Spring Doubles & Mixed Flex Leagues
DESCRIPTION:Registration Ends 4/16!  New player play FREE with promo 
 code LTFORFREE2\nReturning players pay only $15 this Spring!!\nREGISTE
 R NOW at http://www.leaguetennis.com/Default.aspx?ref=G43DS98\n \n \
 n\nFor more information visit http://tennisopolis.com/events/spring-do
 ubles-mixed-flex-leagues
DTSTART;TZID=America/Belize:20120424T180000
DTEND;TZID=America/Belize:20120616T190000
CATEGORIES:competitive, doubles, "&", mixed, flex, league
LOCATION:Atlanta, Austin, Dallas, Fort Worth, Houston, Jacksonville, L
 os Angeles, San Antonio, San Diego
WEBSITE:http://www.leaguetennis.com/Default.aspx?ref=G43DS98
URL:http://www.leaguetennis.com/Default.aspx?ref=G43DS98
CONTACT:
ORGANIZER;CN=LeagueTennis:http://tennisopolis.com/profile/LeagueTennis
ATTACH;FMTTYPE="image/jpeg":http://storage.ning.com/topology/rest/1.0/
 file/get/3157809587?profile=original
ATTENDEE;ROLE=REQ-PARTICIPANT;PARTSTAT=ACCEPTED;RSVP=TRUE;CN=LeagueTen
 nis:http://tennisopolis.com/profile/LeagueTennis
END:VEVENT
END:VCALENDAR
