BEGIN:VCALENDAR
PRODID:NingEventWidget-v1
VERSION:2.0
METHOD:PUBLISH
BEGIN:VTIMEZONE
TZID:America/Belize
X-LIC-LOCATION:America/Belize
BEGIN:STANDARD
TZOFFSETFROM:-0600
TZOFFSETTO:-0600
TZNAME:CST
DTSTART:19700101T000000
END:STANDARD
END:VTIMEZONE
BEGIN:VEVENT
UID:1869403:Event:1045671
DTSTAMP:20260424T012732Z
SUMMARY:saturday 4.0-4.5 mixer
DESCRIPTION:saturday morning 4.0+ 4.5 mixer at frias park. bring your 
 sticks, fresh tennis balls and your A game. limited to first 8 players
  who RSVP. will play. . will start with doubles and transition to sing
 les as time allows.\nentrance to courts is located on decatur across f
 rom 4 wheel parts. follow all the way towards the end of the parking l
 ot.\n\nFor more information visit http://tennisopolis.com/events/satur
 day-4-0-4-5-mixer
DTSTART;TZID=America/Belize:20130601T090000
DTEND;TZID=America/Belize:20130601T113000
CATEGORIES:mixer, doubles
LOCATION:Frias Park
WEBSITE:
URL:
CONTACT:
ORGANIZER:4.0+ group
ATTACH;FMTTYPE="image/jpeg":http://storage.ning.com/topology/rest/1.0/
 file/get/3157898847?profile=original
ATTENDEE;ROLE=REQ-PARTICIPANT;PARTSTAT=ACCEPTED;RSVP=TRUE;CN="chan ong
  teng":http://tennisopolis.com/profile/chanongteng
END:VEVENT
END:VCALENDAR
