BEGIN:VCALENDAR
PRODID:NingEventWidget-v1
VERSION:2.0
METHOD:PUBLISH
BEGIN:VTIMEZONE
TZID:America/Belize
X-LIC-LOCATION:America/Belize
BEGIN:STANDARD
TZOFFSETFROM:-0600
TZOFFSETTO:-0600
TZNAME:CST
DTSTART:19700101T000000
END:STANDARD
END:VTIMEZONE
BEGIN:VEVENT
UID:1869403:Event:402583
DTSTAMP:20260421T081022Z
SUMMARY:Presidents Country Club - West Palm Beach, FL
DESCRIPTION:Open to all levels all players.\n\n8 Clay Courts\nCountry 
 Club Facilities\nMembership NOT required\n\nContact Tamas for complete
  schedule details\nTUE & THURS 6pm to 7:30pm Open Class\nCome join a f
 un group for a great workout on the court.\n\nFor more information vis
 it http://tennisopolis.com/events/presidents-country-club-west
DTSTART;TZID=America/Belize:20100513T180000
DTEND;TZID=America/Belize:20100513T193000
CATEGORIES:meet-up, open, class
LOCATION:West Palm Beach, FL
WEBSITE:http://mvmtennis.com
URL:http://mvmtennis.com
CONTACT:561.503.5382
ORGANIZER;CN=Tamara:http://tennisopolis.com/profile/Tamara797
ATTACH;FMTTYPE="image/jpeg":http://storage.ning.com/topology/rest/1.0/
 file/get/3157717005?profile=original
ATTENDEE;ROLE=REQ-PARTICIPANT;PARTSTAT=ACCEPTED;RSVP=TRUE;CN=Tamara:ht
 tp://tennisopolis.com/profile/Tamara797
ATTENDEE;ROLE=REQ-PARTICIPANT;PARTSTAT=TENTATIVE;RSVP=TRUE;CN=Alan:htt
 p://tennisopolis.com/profile/AlanMurphy
ATTENDEE;ROLE=REQ-PARTICIPANT;PARTSTAT=TENTATIVE;RSVP=TRUE;CN="Norman 
 Froscher":http://tennisopolis.com/profile/NormanFroscher
END:VEVENT
END:VCALENDAR
