BEGIN:VCALENDAR
PRODID:NingEventWidget-v1
VERSION:2.0
METHOD:PUBLISH
BEGIN:VTIMEZONE
TZID:America/Belize
X-LIC-LOCATION:America/Belize
BEGIN:STANDARD
TZOFFSETFROM:-0600
TZOFFSETTO:-0600
TZNAME:CST
DTSTART:19700101T000000
END:STANDARD
END:VTIMEZONE
BEGIN:VEVENT
UID:1869403:Event:996511
DTSTAMP:20260419T062428Z
SUMMARY:Marietta GA Adult Tennis training Saturdays
DESCRIPTION:Adult Tennis Training/Drills/Strategy Sat 1/12\n#woodpoint
 eApts\n10am to 1130 $20 for 1 or $65 for 4 sessions\nRegister & Pay at
  the website through paypal, or bring cash whenyou show. thanks.\nhttp
 ://CoachVtennis.com\n\nFor more information visit http://tennisopolis.
 com/events/marietta-ga-adult-tennis-training-saturdays
DTSTART;TZID=America/Belize:20130111T100000
DTEND;TZID=America/Belize:20130111T113000
CATEGORIES:adult, drills, training, strategy, practice, marietta, ga, 
 30064
LOCATION:1001 Burnt Hickory RD NW, Marietta GA 30064
WEBSITE:
URL:
CONTACT:
ORGANIZER;CN="CoachV - William Vazquez":http://tennisopolis.com/profil
 e/CoachV
ATTACH;FMTTYPE="image/jpeg":http://storage.ning.com/topology/rest/1.0/
 file/get/3157870198?profile=original
ATTENDEE;ROLE=REQ-PARTICIPANT;PARTSTAT=ACCEPTED;RSVP=TRUE;CN="CoachV -
  William Vazquez":http://tennisopolis.com/profile/CoachV
END:VEVENT
END:VCALENDAR
