BEGIN:VCALENDAR
PRODID:NingEventWidget-v1
VERSION:2.0
METHOD:PUBLISH
BEGIN:VTIMEZONE
TZID:America/Belize
X-LIC-LOCATION:America/Belize
BEGIN:STANDARD
TZOFFSETFROM:-0600
TZOFFSETTO:-0600
TZNAME:CST
DTSTART:19700101T000000
END:STANDARD
END:VTIMEZONE
BEGIN:VEVENT
UID:1869403:Event:893065
DTSTAMP:20260421T173103Z
SUMMARY:Keizer Tennis Association - Summer Program Info
DESCRIPTION:The Keizer Tennis Association offers low-cost (and some sc
 holarships, too) tennis camps for kids and lessons for adults.\n\nFor 
 more information visit http://tennisopolis.com/events/keizer-tennis-as
 sociation-summer-program-info
DTSTART;TZID=America/Belize:20120709T000000
DTEND;TZID=America/Belize:20120818T235900
CATEGORIES:"camps/clinics"
LOCATION:McNary High School - Keizer, OR
WEBSITE:http://keizertennisassociation.org/Registration.html
URL:http://keizertennisassociation.org/Registration.html
CONTACT:
ORGANIZER:
ATTACH;FMTTYPE="image/jpeg":
ATTENDEE;ROLE=REQ-PARTICIPANT;PARTSTAT=ACCEPTED;RSVP=TRUE;CN="Barbara 
 Smith":http://tennisopolis.com/profile/BarbaraSmith
END:VEVENT
END:VCALENDAR
