BEGIN:VCALENDAR
PRODID:NingEventWidget-v1
VERSION:2.0
METHOD:PUBLISH
BEGIN:VTIMEZONE
TZID:America/Belize
X-LIC-LOCATION:America/Belize
BEGIN:STANDARD
TZOFFSETFROM:-0600
TZOFFSETTO:-0600
TZNAME:CST
DTSTART:19700101T000000
END:STANDARD
END:VTIMEZONE
BEGIN:VEVENT
UID:1869403:Event:995174
DTSTAMP:20260424T050903Z
SUMMARY:John White
DESCRIPTION:Best wishes for a wonderful New Year!\nFor over 35 yrs I'v
 e been organizing and running tennis trips, tournaments, and tennis pa
 rties.\nRecently I've been doing only one event a year called a tennis
  Calcutta.\nHowever, many times I've been asked about doing more event
 s in Port Hueneme.\nBy getting together with a terrific coach, I'm ple
 ased to report a unique fun weekend. (Not a Calcutta)\n\nIn addition t
 o a mix of social and competitive activities you'll have an opportunit
 y to perk your game up.\nClinics by this world class coach will cover 
 stoke production, mechanics, and doubles strategy.\nThe weekend will b
 e a blend of tournaments, clinics, happy hours, and dinners at local h
 arbor restaurants.\n\n\nAll in all, there will be plenty of friendly t
 ennis action. To see how well players think I run an event, check out 
 the unsolicited feedback page of my Calcutta website.\nhttp://www.free
 webs.com/jwhite101/backgroundandfeedback.htm \nThis really is an excep
 tionally good value.\nHere's the specifics:\nWeâ€™ll be staying at the
  Casa Via Mar Inn in Port Hueneme.Â Â Conveniently located close to th
 e Channel Islands Harbor in Ventura County, this charming Inn has room
 s that are steps close to the tennis courts. Amenities include six ten
 nis courts, a pool, spa, and $1.00 hotel happy hour drinks.\nIn additi
 on to at least 2 no ad scoring round robin tournaments we will have 2 
 top notch clinics and at your option, video recording of your strokes 
 including slow motion. (Your individual video clip will be emailed to 
 you along with the proâ€™s side by side video of the strokes.)\nWorld 
 class coach and Tennisopolis member Tom Worring is giving the clinics.
  He has coached 3 former top 25 world ranking tennis pros and Davis Cu
 p programs for 2 counties.Â  If you donâ€™t have a partner for the tou
 rnaments weâ€™ll provide one.\nJoin us for a fun tennis packed weekend
 , hotel happy hours, and no host dinners at nearby harbor restaurants.
 \nÂ Â Â \nÂ Â Â Â Â Â Â Â Â Â Â Â Â Â Â Â Â Â Â Â Â Â Â Â Â Â Â Â Â Â 
 Â Â Â Â Â Â  Package includes:\nÂ Â Â Â Â Â Â Â Â Â Â Â Â Â Â Â Â Â Â 
 Â Â Â Â  3 days & 2 Nightâ€™s Accommodations\nÂ Â Â  2 clinics\nÂ Â Â 
 Â Â Â Â  Video Recording (optional)\nÂ  Â  Â Â Â Â  Full Breakfast Sun
  and Mon\nÂ Â Â Â Â  Â  Womenâ€™s/Menâ€™s and Mixed Doubles Tournament
 sÂ \nÂ Â Â Â Â Â Â Â Â Â Â Â Â Â Â Â Â Â Â Â Â Â Â  On Court Beverages
 /Winnerâ€™s trophies\nÂ \n$ 189.00 per person double occupancy\nÂ Â Â 
 Â Â Â Â Â Â Â Â Â Â  $ 275 single occupancy\nÂ \nPlease get your check
  in early to confirm your spot. Checks are not cashed until the end of
  January so if you need to cancel by then I will promptly send your ch
 eck back to you. And after that up to 48 hrs before the event I will s
 end you a full refund.\nÂ Â Â Â Â Â Â Â Â Â Â Â Â Â Â Â Â Â Â Â Â Â  Â
  \nMake checks payable to John White. Mail to:\nJohn White\n158 E. Car
 mel Green\nPortÂ  Hueneme, CA 93041\nQuestions? Call John at (805) 984
 -1672 or e-mail at: jwhite10110s@gmail.com\nÂ \n\nFor more information
  visit http://tennisopolis.com/events/john-white
DTSTART;TZID=America/Belize:20130216T000000
DTEND;TZID=America/Belize:20130218T235900
CATEGORIES:tennis, doubles, presidents, day, special, weekend
LOCATION:Southern California
WEBSITE:
URL:
CONTACT:805 984 1672
ORGANIZER;CN="John White":http://tennisopolis.com/profile/JohnWhite178
ATTACH;FMTTYPE="image/jpeg":
ATTENDEE;ROLE=REQ-PARTICIPANT;PARTSTAT=ACCEPTED;RSVP=TRUE;CN="John Whi
 te":http://tennisopolis.com/profile/JohnWhite178
END:VEVENT
END:VCALENDAR
