BEGIN:VCALENDAR
PRODID:NingEventWidget-v1
VERSION:2.0
METHOD:PUBLISH
BEGIN:VTIMEZONE
TZID:America/Belize
X-LIC-LOCATION:America/Belize
BEGIN:STANDARD
TZOFFSETFROM:-0600
TZOFFSETTO:-0600
TZNAME:CST
DTSTART:19700101T000000
END:STANDARD
END:VTIMEZONE
BEGIN:VEVENT
UID:1869403:Event:876497
DTSTAMP:20260421T080519Z
SUMMARY:Jim Gaube
DESCRIPTION:I see many folks looking for matches in the Palm Spirngs a
 rea.  I play at Sunrise Country Club.  A very fine private club in R
 ancho Mirage.  Sunrise is holding a Twilight Tennis Evening on May 1,
  2012 at 5:00pm.  This is open to all Sunrise members and their guest
 .  If anyone is interested let me know.  An evening of tennis and a 
 BBQ for only $10. This is a great deal.\n\nFor more information visit
  http://tennisopolis.com/events/jim-gaube
DTSTART;TZID=America/Belize:20120501T170000
DTEND;TZID=America/Belize:20120501T193000
CATEGORIES:doubles, evening, tennis
LOCATION:Sunrise Coutry Club, Rancho Mirage, CA
WEBSITE:
URL:
CONTACT:760-346-0030
ORGANIZER;CN="Jim Gaube":http://tennisopolis.com/profile/JimGaube
ATTACH;FMTTYPE="image/jpeg":
ATTENDEE;ROLE=REQ-PARTICIPANT;PARTSTAT=ACCEPTED;RSVP=TRUE;CN="Jim Gaub
 e":http://tennisopolis.com/profile/JimGaube
END:VEVENT
END:VCALENDAR
