BEGIN:VCALENDAR
PRODID:NingEventWidget-v1
VERSION:2.0
METHOD:PUBLISH
BEGIN:VTIMEZONE
TZID:America/Belize
X-LIC-LOCATION:America/Belize
BEGIN:STANDARD
TZOFFSETFROM:-0600
TZOFFSETTO:-0600
TZNAME:CST
DTSTART:19700101T000000
END:STANDARD
END:VTIMEZONE
BEGIN:VEVENT
UID:1869403:Event:374500
DTSTAMP:20260421T070037Z
SUMMARY:Indoor Tennis Clinics
DESCRIPTION:28 to come whenever you want, as low as $20 if you sign up
  for all 13 week winter session.\n\nClinics for all levels!\n\nFor mor
 e information visit http://tennisopolis.com/events/indoor-tennis-clini
 cs
DTSTART;TZID=America/Belize:20091206T180000
DTEND;TZID=America/Belize:20100401T190000
CATEGORIES:clinics
LOCATION:DC Area (Annandale)
WEBSITE:
URL:
CONTACT:
ORGANIZER;CN=Robin:http://tennisopolis.com/profile/Robin27
ATTACH;FMTTYPE="image/jpeg":
ATTENDEE;ROLE=REQ-PARTICIPANT;PARTSTAT=ACCEPTED;RSVP=TRUE;CN=Robin:htt
 p://tennisopolis.com/profile/Robin27
ATTENDEE;ROLE=REQ-PARTICIPANT;PARTSTAT=TENTATIVE;RSVP=TRUE;CN="Audrey 
 L. Grebb":http://tennisopolis.com/profile/AudreyLGrebb
END:VEVENT
END:VCALENDAR
