BEGIN:VCALENDAR
PRODID:NingEventWidget-v1
VERSION:2.0
METHOD:PUBLISH
BEGIN:VTIMEZONE
TZID:America/Belize
X-LIC-LOCATION:America/Belize
BEGIN:STANDARD
TZOFFSETFROM:-0600
TZOFFSETTO:-0600
TZNAME:CST
DTSTART:19700101T000000
END:STANDARD
END:VTIMEZONE
BEGIN:VEVENT
UID:1869403:Event:375580
DTSTAMP:20260422T173029Z
SUMMARY:hit around
DESCRIPTION:Althought there's not many of us yet, let's try to get tog
 ether and hit anyway.\n\nFor more information visit http://tennisopoli
 s.com/events/hit-around
DTSTART;TZID=America/Belize:20100109T110000
DTEND;TZID=America/Belize:20100109T140000
CATEGORIES:hit, around
LOCATION:UCSB
WEBSITE:
URL:
CONTACT:448-9340
ORGANIZER;CN=Tiesha:http://tennisopolis.com/profile/Tiesha
ATTACH;FMTTYPE="image/jpeg":
ATTENDEE;ROLE=REQ-PARTICIPANT;PARTSTAT=ACCEPTED;RSVP=TRUE;CN=Tiesha:ht
 tp://tennisopolis.com/profile/Tiesha
END:VEVENT
END:VCALENDAR
