BEGIN:VCALENDAR
PRODID:NingEventWidget-v1
VERSION:2.0
METHOD:PUBLISH
BEGIN:VTIMEZONE
TZID:America/Belize
X-LIC-LOCATION:America/Belize
BEGIN:STANDARD
TZOFFSETFROM:-0600
TZOFFSETTO:-0600
TZNAME:CST
DTSTART:19700101T000000
END:STANDARD
END:VTIMEZONE
BEGIN:VEVENT
UID:1869403:Event:1012986
DTSTAMP:20260424T084741Z
SUMMARY:FiL Am tennis Meet
DESCRIPTION:This event is opened to all filipino american tennis playe
 rs who reside in the Las Vegas Valley area. RSVP is needed if you are 
 attending. This will be a potluck event so everyone is required to bri
 ng food or drinks. also everyone will be asked to bring a fresh can of
  tennis balls which will be used for the matches. action starts @ 8AM.
  be there ON TIME!\n\nFor more information visit http://tennisopolis.c
 om/events/fil-am-tennis-meet
DTSTART;TZID=America/Belize:20130223T000000
DTEND;TZID=America/Belize:20130223T235900
CATEGORIES:doubles, mixer
LOCATION:Lone Mountain Park
WEBSITE:http://maps.google.com/maps?q=9825+Lone+Mountain+Road,+Las+Veg
 as,+NV&hl=en&sll=36.125,-115.175&sspn=0.58125,1.352692&oq=9825+W+lone&
 hnear=9825+W+Lone+Mountain+Rd,+Las+Vegas,+Nevada+89129&t=h&z=16
URL:http://maps.google.com/maps?q=9825+Lone+Mountain+Road,+Las+Vegas,+
 NV&hl=en&sll=36.125,-115.175&sspn=0.58125,1.352692&oq=9825+W+lone&hnea
 r=9825+W+Lone+Mountain+Rd,+Las+Vegas,+Nevada+89129&t=h&z=16
CONTACT:
ORGANIZER:Fil Am tennis group Las vegas
ATTACH;FMTTYPE="image/jpeg":
ATTENDEE;ROLE=REQ-PARTICIPANT;PARTSTAT=ACCEPTED;RSVP=TRUE;CN="chan ong
  teng":http://tennisopolis.com/profile/chanongteng
END:VEVENT
END:VCALENDAR
