BEGIN:VCALENDAR
PRODID:NingEventWidget-v1
VERSION:2.0
METHOD:PUBLISH
BEGIN:VTIMEZONE
TZID:America/Belize
X-LIC-LOCATION:America/Belize
BEGIN:STANDARD
TZOFFSETFROM:-0600
TZOFFSETTO:-0600
TZNAME:CST
DTSTART:19700101T000000
END:STANDARD
END:VTIMEZONE
BEGIN:VEVENT
UID:1869403:Event:1168273
DTSTAMP:20260420T223522Z
SUMMARY:DTENNIS HALLOWEEN DOUBLES TOURNAMENT!
DESCRIPTION:http://www.dtennis.net/tournaments.html\n\nFor more inform
 ation visit http://tennisopolis.com/events/dtennis-halloween-doubles-t
 ournament
DTSTART;TZID=America/Belize:20141101T090000
DTEND;TZID=America/Belize:20141101T123000
CATEGORIES:co-, ed, doubles, "(let", us, know, if, you, need, a, "part
 ner)"
LOCATION:North Lake Park
WEBSITE:http://www.dtennis.net/tournaments.html
URL:http://www.dtennis.net/tournaments.html
CONTACT:352-340-3015
ORGANIZER;CN=DTennis:http://tennisopolis.com/profile/DianaBelton
ATTACH;FMTTYPE="image/jpeg":
ATTENDEE;ROLE=REQ-PARTICIPANT;PARTSTAT=ACCEPTED;RSVP=TRUE;CN=DTennis:h
 ttp://tennisopolis.com/profile/DianaBelton
END:VEVENT
END:VCALENDAR
