BEGIN:VCALENDAR
PRODID:NingEventWidget-v1
VERSION:2.0
METHOD:PUBLISH
BEGIN:VTIMEZONE
TZID:America/Belize
X-LIC-LOCATION:America/Belize
BEGIN:STANDARD
TZOFFSETFROM:-0600
TZOFFSETTO:-0600
TZNAME:CST
DTSTART:19700101T000000
END:STANDARD
END:VTIMEZONE
BEGIN:VEVENT
UID:1869403:Event:408801
DTSTAMP:20260420T235918Z
SUMMARY:Doubles & Singles Walk-on Round Robin
DESCRIPTION:Come join us for fun play....Open to All.\n\nSingles & Dou
 ble Fun Matches\nClay Courts\nCountry Club Facilities\n\nFun Round Rob
 ins\nTUE, THURS & SUN 8:30 to 10:00 am\n\nPresidential Country Club (N
 on Members Always Welcome)\n2300 Presidential Way, West Palm Beach, FL
  33401\n(Palm Beach Lakes & Congress)\n\nCall Tamas @ 561.503.5382\nPr
 ivate Lesson & Weekly Clinics Available. Now forming USTA LEAGUES.\n\n
 For more information visit http://tennisopolis.com/events/doubles-sing
 les-walkon-round
DTSTART;TZID=America/Belize:20100607T083000
DTEND;TZID=America/Belize:20100607T100000
CATEGORIES:meet, up, -, singles, "&", doubles
LOCATION:West Palm Beach, FL
WEBSITE:http://www.mvmtennis.com
URL:http://www.mvmtennis.com
CONTACT:561.503.5382
ORGANIZER;CN=Tamara:http://tennisopolis.com/profile/Tamara797
ATTACH;FMTTYPE="image/jpeg":
ATTENDEE;ROLE=REQ-PARTICIPANT;PARTSTAT=ACCEPTED;RSVP=TRUE;CN=Tamara:ht
 tp://tennisopolis.com/profile/Tamara797
END:VEVENT
END:VCALENDAR
