BEGIN:VCALENDAR
PRODID:NingEventWidget-v1
VERSION:2.0
METHOD:PUBLISH
BEGIN:VTIMEZONE
TZID:America/Belize
X-LIC-LOCATION:America/Belize
BEGIN:STANDARD
TZOFFSETFROM:-0600
TZOFFSETTO:-0600
TZNAME:CST
DTSTART:19700101T000000
END:STANDARD
END:VTIMEZONE
BEGIN:VEVENT
UID:1869403:Event:1089448
DTSTAMP:20260421T101732Z
SUMMARY:Carrboro Tennis with Ron Rudin
DESCRIPTION:Join upcoming adult intermediate and junior tennis classes
 .\nStarting Oct. 15 and Dec. 14. \nAlso private lessons can be arrang
 ed. \n\nFor more information visit http://tennisopolis.com/events/car
 rboro-tennis-with-ron-rudin
DTSTART;TZID=America/Belize:20131015T170000
DTEND;TZID=America/Belize:20131205T190000
CATEGORIES:tennis, lessons
LOCATION:Carrboro, NC
WEBSITE:
URL:
CONTACT:
ORGANIZER;CN="Ron Rudin":http://tennisopolis.com/profile/RonRudin
ATTACH;FMTTYPE="image/jpeg":http://storage.ning.com/topology/rest/1.0/
 file/get/3127147129?profile=original
ATTENDEE;ROLE=REQ-PARTICIPANT;PARTSTAT=ACCEPTED;RSVP=TRUE;CN="Ron Rudi
 n":http://tennisopolis.com/profile/RonRudin
END:VEVENT
END:VCALENDAR
