BEGIN:VCALENDAR
PRODID:NingEventWidget-v1
VERSION:2.0
METHOD:PUBLISH
BEGIN:VTIMEZONE
TZID:America/Belize
X-LIC-LOCATION:America/Belize
BEGIN:STANDARD
TZOFFSETFROM:-0600
TZOFFSETTO:-0600
TZNAME:CST
DTSTART:19700101T000000
END:STANDARD
END:VTIMEZONE
BEGIN:VEVENT
UID:1869403:Event:665954
DTSTAMP:20260421T213649Z
SUMMARY:CALCUTTA MIXED DOUBLES TOURNAMENT – JULY 16
DESCRIPTION:The stakes are high with this Mixed Doubles Tournament wit
 h up to $600 in Prize Money to be won – and you don’t have to be t
 he winning team to get your share! It’s a very fun format that keeps
  people watching until the very end!  Your Entry Fee Includes: Guarant
 ee of 3 matches / A & B Elimination Draws / Players' Package / Steam
  Whistle Prize Clinic / New Sponsor Events / Excellent Door Prizes\n
 In addition, this event will include: Silent Auction / On-site Massage
  & Sports Therapy and more!\nEntry Fee: $40 per person\nMaximum Draw S
 ize: 24 MXD Teams\nStart Times: 9:30 a.m. and 11:00 a.m.\nShould you h
 ave any further questions please contact me: arba@tennisaccess.com\nAr
 ba Pema\nTENNISaccess.com Doubles Tour Inc.\n33 Harbour Square, Suite 
 #3008\nToronto, On M5J 2G2\nPh: 647.342.TENNIS (8366)\nCell: 416.894.4
 973\nTENNISaccess.com\n\nFor more information visit http://tennisopoli
 s.com/events/calcutta-mixed-doubles
DTSTART;TZID=America/Belize:20120716T000000
DTEND;TZID=America/Belize:20120716T235900
CATEGORIES:tennis, event, -, mixed, doubles, tournament
LOCATION:Cutten Club- Guelph
WEBSITE:
URL:
CONTACT:
ORGANIZER;CN=TENNISaccess:http://tennisopolis.com/profile/ArbaPema
ATTACH;FMTTYPE="image/jpeg":
ATTENDEE;ROLE=REQ-PARTICIPANT;PARTSTAT=ACCEPTED;RSVP=TRUE;CN=TENNISacc
 ess:http://tennisopolis.com/profile/ArbaPema
END:VEVENT
END:VCALENDAR
