BEGIN:VCALENDAR
PRODID:NingEventWidget-v1
VERSION:2.0
METHOD:PUBLISH
BEGIN:VTIMEZONE
TZID:America/Belize
X-LIC-LOCATION:America/Belize
BEGIN:STANDARD
TZOFFSETFROM:-0600
TZOFFSETTO:-0600
TZNAME:CST
DTSTART:19700101T000000
END:STANDARD
END:VTIMEZONE
BEGIN:VEVENT
UID:1869403:Event:879120
DTSTAMP:20260423T212713Z
SUMMARY:Atlanta Kids Summer Tennis Camp 2012
DESCRIPTION:Summer Tennis Camp for Kids, Active tournament playing Jun
 iors, Beginners and Intermediate Tennis players.\nOffical Summer Camp 
 starts first week June 1st.  Last week of camp is July 30th.  Amount
  is $300.....or $275 full payment in before May 11th\nStudents will im
 prove on:\nList of Skills & Abilities\n* Forehand grip, Backhand grip,
  Continental grip\n* Forehand & Backhand Ground Strokes\n* Top Spin, U
 nder Spin, Side Spin\n* Forehand & Backhand Volley\n* Serve & Overhead
 s\n* Return of Serve\n* Movement & Foot Work\n* Keeping score for a te
 nnis match\n* Fitness, training & health knowledge\n* Strategies for S
 ingles & Doubles\n* Changing grips during play\n* Mental toughness, fo
 cus & drive to win\n\nWhat to Bring:\nDaily Lunch & Snacks\nTennis Rac
 quet\nTennis Sneaker or basket ball sneakers, not track shoes or cross
  trainers\nSwim Suite for after noon Break\nSun Screen\n\nTennisopolis
  Deal!!!! : Mention CoachV From Tennisopolis and Receive the Membershi
 p RATE for non-members!\n\n\n\nFor more information visit http://tenni
 sopolis.com/events/atlanta-kids-summer-tennis-camp-2012
DTSTART;TZID=America/Belize:20120601T090000
DTEND;TZID=America/Belize:20120803T140000
CATEGORIES:summer, tennis, camp, junior, programs
LOCATION:Atlanta, Sandy Springs, GA, Dunwoody, Buckhead, duluth, Roswe
 ll, Smyrna, Marietta
WEBSITE:http://maps.google.com/maps?saddr=CoachV+Tennis+Services,+Hine
 s+Hill+Circle,+Marietta,+GA&daddr=Concourse+Pkwy+NE&hl=en&sll=33.91638
 2,-84.35689&sspn=0.003097,0.005284&geocode=FV4eBgIdOlX1-iEA1F1xwFwVsSl
 Ts-9A3RX1iDFBLLrsi0pdRw%3BFWuFBQIdJdH4-g&oq=CoachV&t=h&mra=ls&z=12
URL:http://maps.google.com/maps?saddr=CoachV+Tennis+Services,+Hines+Hi
 ll+Circle,+Marietta,+GA&daddr=Concourse+Pkwy+NE&hl=en&sll=33.916382,-8
 4.35689&sspn=0.003097,0.005284&geocode=FV4eBgIdOlX1-iEA1F1xwFwVsSlTs-9
 A3RX1iDFBLLrsi0pdRw%3BFWuFBQIdJdH4-g&oq=CoachV&t=h&mra=ls&z=12
CONTACT:404-829-4660
ORGANIZER;CN="CoachV - William Vazquez":http://tennisopolis.com/profil
 e/CoachV
ATTACH;FMTTYPE="image/jpeg":http://storage.ning.com/topology/rest/1.0/
 file/get/3036804805?profile=original
ATTENDEE;ROLE=REQ-PARTICIPANT;PARTSTAT=ACCEPTED;RSVP=TRUE;CN="CoachV -
  William Vazquez":http://tennisopolis.com/profile/CoachV
END:VEVENT
END:VCALENDAR
