BEGIN:VCALENDAR
PRODID:NingEventWidget-v1
VERSION:2.0
METHOD:PUBLISH
BEGIN:VTIMEZONE
TZID:America/Belize
X-LIC-LOCATION:America/Belize
BEGIN:STANDARD
TZOFFSETFROM:-0600
TZOFFSETTO:-0600
TZNAME:CST
DTSTART:19700101T000000
END:STANDARD
END:VTIMEZONE
BEGIN:VEVENT
UID:1869403:Event:375866
DTSTAMP:20260422T085300Z
SUMMARY:ATL Tennis Meetup - Guys Tennis Night Out
DESCRIPTION:ATL Osceola Kissimmee Celebration Tennis Meetup Club\n\nJO
 IN THIS EXCITING TENNIS MEETUP CLUB IN KISSIMMEE/CELEBRATION - The pur
 pose of the ATL Osceola Kissimmee Celebration Tennis Meetup Club is to
  offer matchplay to tennis players of all levels to have fun and enjoy
  competition while making new friends and spending time with old ones 
 in a fun atmosphere.\n\n(There are only 12 spots available, so if you'
 re interested, please RSVP asap)\n\n\n- Guys Night Out - Men's Doubles
  Tennis Meetup\nTuesday, December 15, 2009 at 7:00PM\n\nTuesday evenin
 g 7-9pm at the American Tennis League Complex in Kissimmee, Florida\n\
 nThis evening is for the guys... All players and levels are welcome.\n
 \nAfterwards, we invite everyone to join us at Breeze's Lounge inside 
 the Ramada Orlando Celebration Convention Center for 2 for 1 drinks an
 d 1/2 price appetizers.\n\nRemember, this is tennis and a bit of socia
 lizing :)\n\nPrice: $12.00\n\nAmerican Tennis League Tennis Complex\n6
 375 Irlo Bronson Hwy (Ramada Orlando Celebration Convention Center (19
 2 across from Celebration)\nKissimmee/Celebration, FL 34747\n\nPrice: 
 $12.00\n\nSee the full event details at\n\nhttp://www.meetup.com/ATL-O
 sceola-Kissimmee-Celebration-Tennis-Meetup-Club/calendar/12001970/.\n\
 nFor more information visit http://tennisopolis.com/events/atl-tennis-
 meetup-guys-tennis
DTSTART;TZID=America/Belize:20091215T190000
DTEND;TZID=America/Belize:20091215T210000
CATEGORIES:"men's", doubles, meet-up
LOCATION:Orlando, FL
WEBSITE:
URL:
CONTACT:
ORGANIZER;CN="American Tennis Club":http://tennisopolis.com/profile/am
 ericantennisclub
ATTACH;FMTTYPE="image/jpeg":
ATTENDEE;ROLE=REQ-PARTICIPANT;PARTSTAT=ACCEPTED;RSVP=TRUE;CN="American
  Tennis Club":http://tennisopolis.com/profile/americantennisclub
END:VEVENT
END:VCALENDAR
