BEGIN:VCALENDAR
PRODID:NingEventWidget-v1
VERSION:2.0
METHOD:PUBLISH
BEGIN:VTIMEZONE
TZID:America/Belize
X-LIC-LOCATION:America/Belize
BEGIN:STANDARD
TZOFFSETFROM:-0600
TZOFFSETTO:-0600
TZNAME:CST
DTSTART:19700101T000000
END:STANDARD
END:VTIMEZONE
BEGIN:VEVENT
UID:1869403:Event:376566
DTSTAMP:20260421T235519Z
SUMMARY:Alamo City Aces Weekly Rally#1, San Antonio, TX
DESCRIPTION:Everyone...our weekly rally is at the mercy of the weather
 ..hopefully it will clear up and warm up a bit so we can get out...eve
 ryone at all levels is welcome..4 courts available most times so plent
 y of room to play doubles, singles or just work on your game...\nWeath
 er permitting see you there!\n\nFor more information visit http://tenn
 isopolis.com/events/alamo-city-aces-weekly-rally1-1
DTSTART;TZID=America/Belize:20091219T080000
DTEND;TZID=America/Belize:20091219T113000
CATEGORIES:hit, around, rally
LOCATION:Rudder Middle School Tennis Courts
WEBSITE:
URL:
CONTACT:
ORGANIZER;CN=SATennisguy:http://tennisopolis.com/profile/jenkins
ATTACH;FMTTYPE="image/jpeg":http://storage.ning.com/topology/rest/1.0/
 file/get/3157679254?profile=original
ATTENDEE;ROLE=REQ-PARTICIPANT;PARTSTAT=ACCEPTED;RSVP=TRUE;CN="Curtis N
 otz":http://tennisopolis.com/profile/CurtisNotz
ATTENDEE;ROLE=REQ-PARTICIPANT;PARTSTAT=ACCEPTED;RSVP=TRUE;CN="Ketan M"
 :http://tennisopolis.com/profile/KetanM
ATTENDEE;ROLE=REQ-PARTICIPANT;PARTSTAT=ACCEPTED;RSVP=TRUE;CN=Juan:http
 ://tennisopolis.com/profile/JuanAntonioColunga
ATTENDEE;ROLE=REQ-PARTICIPANT;PARTSTAT=ACCEPTED;RSVP=TRUE;CN=Kevin:htt
 p://tennisopolis.com/profile/Kevin85
ATTENDEE;ROLE=REQ-PARTICIPANT;PARTSTAT=ACCEPTED;RSVP=TRUE;CN=SATennisg
 uy:http://tennisopolis.com/profile/jenkins
ATTENDEE;ROLE=REQ-PARTICIPANT;PARTSTAT=TENTATIVE;RSVP=TRUE;CN="Carlos 
 R.":http://tennisopolis.com/profile/carlos6
ATTENDEE;ROLE=REQ-PARTICIPANT;PARTSTAT=TENTATIVE;RSVP=TRUE;CN=Dan:http
 ://tennisopolis.com/profile/DanIcet
ATTENDEE;ROLE=REQ-PARTICIPANT;PARTSTAT=TENTATIVE;RSVP=TRUE;CN=Alan:htt
 p://tennisopolis.com/profile/Alan36
END:VEVENT
END:VCALENDAR
