BEGIN:VCALENDAR
PRODID:NingEventWidget-v1
VERSION:2.0
METHOD:PUBLISH
BEGIN:VTIMEZONE
TZID:America/Belize
X-LIC-LOCATION:America/Belize
BEGIN:STANDARD
TZOFFSETFROM:-0600
TZOFFSETTO:-0600
TZNAME:CST
DTSTART:19700101T000000
END:STANDARD
END:VTIMEZONE
BEGIN:VEVENT
UID:1869403:Event:327572
DTSTAMP:20260421T011152Z
SUMMARY:Alamo City Aces Weekly Rally, San Antonio, TX
DESCRIPTION:Everyone is welcome out to our weekly rally held at Clark 
 HS Teninis Courts...all levels of play ..doubles, singles, workout you
 r game...enjoy meeting new members and make new friends that enjoy ten
 nis....\nCome out and just have some fun!\nCourts fill up so come earl
 y so we can lock in a few courts for play too.\n\nFor more information
  visit http://tennisopolis.com/events/alamo-city-aces-weekly-rally-1
DTSTART;TZID=America/Belize:20090613T080000
DTEND;TZID=America/Belize:20090613T113000
CATEGORIES:alamo, city, aces, weekly, rally
LOCATION:Clark High School Tennis Courts
WEBSITE:
URL:
CONTACT:
ORGANIZER;CN=SATennisguy:http://tennisopolis.com/profile/jenkins
ATTACH;FMTTYPE="image/jpeg":http://storage.ning.com/topology/rest/1.0/
 file/get/3157681817?profile=original
ATTENDEE;ROLE=REQ-PARTICIPANT;PARTSTAT=ACCEPTED;RSVP=TRUE;CN=Saleh:htt
 p://tennisopolis.com/profile/Saleh
ATTENDEE;ROLE=REQ-PARTICIPANT;PARTSTAT=ACCEPTED;RSVP=TRUE;CN=Yoav:http
 ://tennisopolis.com/profile/Yoav
ATTENDEE;ROLE=REQ-PARTICIPANT;PARTSTAT=TENTATIVE;RSVP=TRUE;CN="Ketan M
 ":http://tennisopolis.com/profile/KetanM
ATTENDEE;ROLE=REQ-PARTICIPANT;PARTSTAT=TENTATIVE;RSVP=TRUE;CN=Kevin:ht
 tp://tennisopolis.com/profile/Kevin85
END:VEVENT
END:VCALENDAR
