BEGIN:VCALENDAR
PRODID:NingEventWidget-v1
VERSION:2.0
METHOD:PUBLISH
BEGIN:VTIMEZONE
TZID:America/Belize
X-LIC-LOCATION:America/Belize
BEGIN:STANDARD
TZOFFSETFROM:-0600
TZOFFSETTO:-0600
TZNAME:CST
DTSTART:19700101T000000
END:STANDARD
END:VTIMEZONE
BEGIN:VEVENT
UID:1869403:Event:379148
DTSTAMP:20260422T084828Z
SUMMARY:Alamo City Aces Weekly Rally #1, San Antonio, TX
DESCRIPTION:Welcome to our first sechedule event for 2010..as always w
 e meet at local Middle School..4 courts typically available..all level
 s are welcome to come out and play singles, doubles or just work on yo
 ur game..its fun time for all...see you there!\n\nPS - if its real rea
 l cold..we wont be there..but if its like 35..we probably will be..lol
 \n\nFor more information visit http://tennisopolis.com/events/alamo-ci
 ty-aces-weekly-rally-1-5
DTSTART;TZID=America/Belize:20100109T080000
DTEND;TZID=America/Belize:20100109T113000
CATEGORIES:rally, hit, around
LOCATION:Rudder Middle School Tennis Courts
WEBSITE:
URL:
CONTACT:
ORGANIZER;CN=SATennisguy:http://tennisopolis.com/profile/jenkins
ATTACH;FMTTYPE="image/jpeg":http://storage.ning.com/topology/rest/1.0/
 file/get/3157679254?profile=original
ATTENDEE;ROLE=REQ-PARTICIPANT;PARTSTAT=ACCEPTED;RSVP=TRUE;CN=Yoav:http
 ://tennisopolis.com/profile/Yoav
ATTENDEE;ROLE=REQ-PARTICIPANT;PARTSTAT=ACCEPTED;RSVP=TRUE;CN="Christin
 a T":http://tennisopolis.com/profile/ChristinaT
ATTENDEE;ROLE=REQ-PARTICIPANT;PARTSTAT=ACCEPTED;RSVP=TRUE;CN="Andrew T
 aylor":http://tennisopolis.com/profile/AndrewTaylor
ATTENDEE;ROLE=REQ-PARTICIPANT;PARTSTAT=ACCEPTED;RSVP=TRUE;CN=SATennisg
 uy:http://tennisopolis.com/profile/jenkins
ATTENDEE;ROLE=REQ-PARTICIPANT;PARTSTAT=TENTATIVE;RSVP=TRUE;CN=Kevin:ht
 tp://tennisopolis.com/profile/Kevin85
ATTENDEE;ROLE=REQ-PARTICIPANT;PARTSTAT=TENTATIVE;RSVP=TRUE;CN="Ketan M
 ":http://tennisopolis.com/profile/KetanM
END:VEVENT
END:VCALENDAR
