BEGIN:VCALENDAR
PRODID:NingEventWidget-v1
VERSION:2.0
METHOD:PUBLISH
BEGIN:VTIMEZONE
TZID:America/Belize
X-LIC-LOCATION:America/Belize
BEGIN:STANDARD
TZOFFSETFROM:-0600
TZOFFSETTO:-0600
TZNAME:CST
DTSTART:19700101T000000
END:STANDARD
END:VTIMEZONE
BEGIN:VEVENT
UID:1869403:Event:1047904
DTSTAMP:20260424T000051Z
SUMMARY:4.0+ saturday morning tennis
DESCRIPTION: saturday morning mixer for all 4.0+ rated players. bring
  your rackets, sport drinks and your A game.. first 8 to RSVP will pla
 y\n\nFor more information visit http://tennisopolis.com/events/4-0-sat
 urday-morning-tennis
DTSTART;TZID=America/Belize:20130608T080000
DTEND;TZID=America/Belize:20130608T103000
CATEGORIES:tennis, mixer
LOCATION:frias park
WEBSITE:
URL:
CONTACT:
ORGANIZER:saturday 4.0+ group
ATTACH;FMTTYPE="image/jpeg":http://storage.ning.com/topology/rest/1.0/
 file/get/3157902453?profile=original
ATTENDEE;ROLE=REQ-PARTICIPANT;PARTSTAT=ACCEPTED;RSVP=TRUE;CN="chan ong
  teng":http://tennisopolis.com/profile/chanongteng
END:VEVENT
END:VCALENDAR
