BEGIN:VCALENDAR
PRODID:NingEventWidget-v1
VERSION:2.0
METHOD:PUBLISH
BEGIN:VTIMEZONE
TZID:America/Belize
X-LIC-LOCATION:America/Belize
BEGIN:STANDARD
TZOFFSETFROM:-0600
TZOFFSETTO:-0600
TZNAME:CST
DTSTART:19700101T000000
END:STANDARD
END:VTIMEZONE
BEGIN:VEVENT
UID:1869403:Event:881695
DTSTAMP:20260421T041121Z
SUMMARY:4,0 + and over
DESCRIPTION:4.0 + players. come out and vent on the fuzzy yellow.ball.
  all USTA rated 4.0 and over players can come out . it's FREE to join 
 and FREE to play. we will start off with doubles and revert to singles
  as participation tapers off.\n\nFor more information visit http://ten
 nisopolis.com/events/4-0-and-over
DTSTART;TZID=America/Belize:20120428T080000
DTEND;TZID=America/Belize:20120428T103000
CATEGORIES:mixer
LOCATION:Sunset Park
WEBSITE:
URL:
CONTACT:
ORGANIZER;CN="chan ong teng":http://tennisopolis.com/profile/chanongte
 ng
ATTACH;FMTTYPE="image/jpeg":
ATTENDEE;ROLE=REQ-PARTICIPANT;PARTSTAT=ACCEPTED;RSVP=TRUE;CN="chan ong
  teng":http://tennisopolis.com/profile/chanongteng
END:VEVENT
END:VCALENDAR
