BEGIN:VCALENDAR
PRODID:NingEventWidget-v1
VERSION:2.0
METHOD:PUBLISH
BEGIN:VTIMEZONE
TZID:America/Belize
X-LIC-LOCATION:America/Belize
BEGIN:STANDARD
TZOFFSETFROM:-0600
TZOFFSETTO:-0600
TZNAME:CST
DTSTART:19700101T000000
END:STANDARD
END:VTIMEZONE
BEGIN:VEVENT
UID:1869403:Event:1015039
DTSTAMP:20260424T120836Z
SUMMARY:4.0+ and over tennis
DESCRIPTION:4.0+ AND OVER DOUBLES ACTION SATURDAY MORNING\nFRIAS PARK 
 ON DECATUR AND TROPICANA\n9AM START. FIRST 8 TO JOIN WILL PLAY.\n\nFor
  more information visit http://tennisopolis.com/events/4-0-and-over-te
 nnis
DTSTART;TZID=America/Belize:20130301T090000
DTEND;TZID=America/Belize:20130301T110000
CATEGORIES:mixer, doubles
LOCATION:Frias Park
WEBSITE:
URL:
CONTACT:
ORGANIZER;CN="chan ong teng":http://tennisopolis.com/profile/chanongte
 ng
ATTACH;FMTTYPE="image/jpeg":
ATTENDEE;ROLE=REQ-PARTICIPANT;PARTSTAT=ACCEPTED;RSVP=TRUE;CN="chan ong
  teng":http://tennisopolis.com/profile/chanongteng
END:VEVENT
END:VCALENDAR
