BEGIN:VCALENDAR
PRODID:NingEventWidget-v1
VERSION:2.0
METHOD:PUBLISH
BEGIN:VTIMEZONE
TZID:America/Belize
X-LIC-LOCATION:America/Belize
BEGIN:STANDARD
TZOFFSETFROM:-0600
TZOFFSETTO:-0600
TZNAME:CST
DTSTART:19700101T000000
END:STANDARD
END:VTIMEZONE
BEGIN:VEVENT
UID:1869403:Event:878715
DTSTAMP:20260421T041403Z
SUMMARY:4.0+ and over mixer
DESCRIPTION:this event is open to all USTA rated 4.0 players. or A div
 ision rated players or higher. if you are a 3.5 player currently playi
 ng in the USTA 4.0 division, you are welcome to join. former college p
 layers are also welcome to come out and shake that rust off .  weathe
 r should be really nice for this event so come out.this event is great
  for 4.0 teams who might need some practice under their belts for upco
 ming USTA matches. see you out there in the morning.\n\n\nFor more inf
 ormation visit http://tennisopolis.com/events/4-0-and-over-mixer
DTSTART;TZID=America/Belize:20120422T080000
DTEND;TZID=America/Belize:20120422T223000
CATEGORIES:mixer
LOCATION:Sunset Park tennis courts
WEBSITE:
URL:
CONTACT:
ORGANIZER;CN="chan ong teng":http://tennisopolis.com/profile/chanongte
 ng
ATTACH;FMTTYPE="image/jpeg":
ATTENDEE;ROLE=REQ-PARTICIPANT;PARTSTAT=ACCEPTED;RSVP=TRUE;CN="chan ong
  teng":http://tennisopolis.com/profile/chanongteng
END:VEVENT
END:VCALENDAR
